BEGIN:VCALENDAR
VERSION:2.0
PRODID:-//Sandon Hertfordshire - ECPv6.15.20//NONSGML v1.0//EN
CALSCALE:GREGORIAN
METHOD:PUBLISH
X-ORIGINAL-URL:https://sandonherts.co.uk
X-WR-CALDESC:Events for Sandon Hertfordshire
REFRESH-INTERVAL;VALUE=DURATION:PT1H
X-Robots-Tag:noindex
X-PUBLISHED-TTL:PT1H
BEGIN:VTIMEZONE
TZID:UTC
BEGIN:STANDARD
TZOFFSETFROM:+0000
TZOFFSETTO:+0000
TZNAME:UTC
DTSTART:20150101T000000
END:STANDARD
END:VTIMEZONE
BEGIN:VEVENT
DTSTART;TZID=UTC:20160428T103000
DTEND;TZID=UTC:20160428T120500
DTSTAMP:20260424T114201
CREATED:20160317T181230Z
LAST-MODIFIED:20160317T182326Z
UID:157-1461839400-1461845100@sandonherts.co.uk
SUMMARY:April Coffee Morning in the Village Hall 10;30 to Noon
DESCRIPTION:Monthly Coffee Morning in the Village Hall from 10;30 to Noon 28th April 16
URL:https://sandonherts.co.uk/event/coffee-morning-vh-1030-to-noon/
LOCATION:Hertfordshire
END:VEVENT
END:VCALENDAR