BEGIN:VCALENDAR
VERSION:2.0
PRODID:-//Sandon Hertfordshire - ECPv6.15.20//NONSGML v1.0//EN
CALSCALE:GREGORIAN
METHOD:PUBLISH
X-WR-CALNAME:Sandon Hertfordshire
X-ORIGINAL-URL:https://sandonherts.co.uk
X-WR-CALDESC:Events for Sandon Hertfordshire
REFRESH-INTERVAL;VALUE=DURATION:PT1H
X-Robots-Tag:noindex
X-PUBLISHED-TTL:PT1H
BEGIN:VTIMEZONE
TZID:UTC
BEGIN:STANDARD
TZOFFSETFROM:+0000
TZOFFSETTO:+0000
TZNAME:UTC
DTSTART:20150101T000000
END:STANDARD
END:VTIMEZONE
BEGIN:VEVENT
DTSTART;TZID=UTC:20160509T193000
DTEND;TZID=UTC:20160509T210000
DTSTAMP:20260424T114110
CREATED:20160508T101310Z
LAST-MODIFIED:20160508T101310Z
UID:197-1462822200-1462827600@sandonherts.co.uk
SUMMARY:Gardening Club with British Legion @ Mill End Nurseries Rushden 7:30
DESCRIPTION:With Celebrations of John Walkers recent 90th\, Birthday
URL:https://sandonherts.co.uk/event/gardening-club-with-british-legion-mill-end-nurseries-rushden-730/
LOCATION:Hertfordshire
END:VEVENT
END:VCALENDAR