BEGIN:VCALENDAR
VERSION:2.0
PRODID:-//Sandon Hertfordshire - ECPv6.15.20//NONSGML v1.0//EN
CALSCALE:GREGORIAN
METHOD:PUBLISH
X-ORIGINAL-URL:https://sandonherts.co.uk
X-WR-CALDESC:Events for Sandon Hertfordshire
REFRESH-INTERVAL;VALUE=DURATION:PT1H
X-Robots-Tag:noindex
X-PUBLISHED-TTL:PT1H
BEGIN:VTIMEZONE
TZID:UTC
BEGIN:STANDARD
TZOFFSETFROM:+0000
TZOFFSETTO:+0000
TZNAME:UTC
DTSTART:20160101T000000
END:STANDARD
END:VTIMEZONE
BEGIN:VEVENT
DTSTART;TZID=UTC:20170617T093000
DTEND;TZID=UTC:20170617T123000
DTSTAMP:20260423T192211
CREATED:20170611T223958Z
LAST-MODIFIED:20170611T223958Z
UID:294-1497691800-1497702600@sandonherts.co.uk
SUMMARY:Village Market in the School 9:30 to 12:30
DESCRIPTION:Village Market in the School 9:30 to 12:30 17th June 17
URL:https://sandonherts.co.uk/event/village-market-in-the-school-930-to-1230/
LOCATION:Hertfordshire
END:VEVENT
END:VCALENDAR