BEGIN:VCALENDAR
VERSION:2.0
PRODID:-//Sandon Hertfordshire - ECPv6.15.20//NONSGML v1.0//EN
CALSCALE:GREGORIAN
METHOD:PUBLISH
X-ORIGINAL-URL:https://sandonherts.co.uk
X-WR-CALDESC:Events for Sandon Hertfordshire
REFRESH-INTERVAL;VALUE=DURATION:PT1H
X-Robots-Tag:noindex
X-PUBLISHED-TTL:PT1H
BEGIN:VTIMEZONE
TZID:UTC
BEGIN:STANDARD
TZOFFSETFROM:+0000
TZOFFSETTO:+0000
TZNAME:UTC
DTSTART:20160101T000000
END:STANDARD
END:VTIMEZONE
BEGIN:VEVENT
DTSTART;TZID=UTC:20170630T180000
DTEND;TZID=UTC:20170630T230000
DTSTAMP:20260423T181352
CREATED:20170602T194925Z
LAST-MODIFIED:20170602T195217Z
UID:288-1498845600-1498863600@sandonherts.co.uk
SUMMARY:Last of The Summer Pub Night's. From 6pm in Village Hall
DESCRIPTION:
URL:https://sandonherts.co.uk/event/pub-night-from-6pm-in-village-hall/
LOCATION:Hertfordshire
END:VEVENT
END:VCALENDAR