BEGIN:VCALENDAR
VERSION:2.0
PRODID:-//Sandon Hertfordshire - ECPv6.15.20//NONSGML v1.0//EN
CALSCALE:GREGORIAN
METHOD:PUBLISH
X-ORIGINAL-URL:https://sandonherts.co.uk
X-WR-CALDESC:Events for Sandon Hertfordshire
REFRESH-INTERVAL;VALUE=DURATION:PT1H
X-Robots-Tag:noindex
X-PUBLISHED-TTL:PT1H
BEGIN:VTIMEZONE
TZID:UTC
BEGIN:STANDARD
TZOFFSETFROM:+0000
TZOFFSETTO:+0000
TZNAME:UTC
DTSTART:20160101T000000
END:STANDARD
END:VTIMEZONE
BEGIN:VEVENT
DTSTART;TZID=UTC:20170720T093000
DTEND;TZID=UTC:20170720T093000
DTSTAMP:20260423T181352
CREATED:20170714T115240Z
LAST-MODIFIED:20170714T115240Z
UID:311-1500543000-1500543000@sandonherts.co.uk
SUMMARY:Mini Bus too Baldock Thursday 9;30 outside saddlery
DESCRIPTION:  \nMini Bus too Baldock Thursday 9;30 From outside the Saddlery \n 
URL:https://sandonherts.co.uk/event/mini-bus-too-baldock-thursday-930-outside-saddlery/
LOCATION:Hertfordshire
END:VEVENT
END:VCALENDAR