BEGIN:VCALENDAR
VERSION:2.0
PRODID:-//Sandon Hertfordshire - ECPv6.15.20//NONSGML v1.0//EN
CALSCALE:GREGORIAN
METHOD:PUBLISH
X-WR-CALNAME:Sandon Hertfordshire
X-ORIGINAL-URL:https://sandonherts.co.uk
X-WR-CALDESC:Events for Sandon Hertfordshire
REFRESH-INTERVAL;VALUE=DURATION:PT1H
X-Robots-Tag:noindex
X-PUBLISHED-TTL:PT1H
BEGIN:VTIMEZONE
TZID:UTC
BEGIN:STANDARD
TZOFFSETFROM:+0000
TZOFFSETTO:+0000
TZNAME:UTC
DTSTART:20170101T000000
END:STANDARD
END:VTIMEZONE
BEGIN:VEVENT
DTSTART;TZID=UTC:20180119T193000
DTEND;TZID=UTC:20180119T213000
DTSTAMP:20260423T101003
CREATED:20180103T203303Z
LAST-MODIFIED:20180103T203303Z
UID:343-1516390200-1516397400@sandonherts.co.uk
SUMMARY:Games Night in Village Hall 7;30 pm
DESCRIPTION:Games Night in the Hall from 7;30pm
URL:https://sandonherts.co.uk/event/games-night-in-village-hall-730-pm/
LOCATION:Hertfordshire
END:VEVENT
END:VCALENDAR