BEGIN:VCALENDAR
VERSION:2.0
PRODID:-//Sandon Hertfordshire - ECPv6.15.20//NONSGML v1.0//EN
CALSCALE:GREGORIAN
METHOD:PUBLISH
X-WR-CALNAME:Sandon Hertfordshire
X-ORIGINAL-URL:https://sandonherts.co.uk
X-WR-CALDESC:Events for Sandon Hertfordshire
REFRESH-INTERVAL;VALUE=DURATION:PT1H
X-Robots-Tag:noindex
X-PUBLISHED-TTL:PT1H
BEGIN:VTIMEZONE
TZID:UTC
BEGIN:STANDARD
TZOFFSETFROM:+0000
TZOFFSETTO:+0000
TZNAME:UTC
DTSTART:20170101T000000
END:STANDARD
END:VTIMEZONE
BEGIN:VEVENT
DTSTART;TZID=UTC:20180126T180000
DTEND;TZID=UTC:20180126T220000
DTSTAMP:20260423T101002
CREATED:20180103T202817Z
LAST-MODIFIED:20180103T202817Z
UID:342-1516989600-1517004000@sandonherts.co.uk
SUMMARY:Pub Night from 6pm in the Village Hall
DESCRIPTION:
URL:https://sandonherts.co.uk/event/pub-night-from-6pm-in-the-village-hall/
LOCATION:Hertfordshire
END:VEVENT
END:VCALENDAR