BEGIN:VCALENDAR
VERSION:2.0
PRODID:-//Sandon Hertfordshire - ECPv6.15.20//NONSGML v1.0//EN
CALSCALE:GREGORIAN
METHOD:PUBLISH
X-WR-CALNAME:Sandon Hertfordshire
X-ORIGINAL-URL:https://sandonherts.co.uk
X-WR-CALDESC:Events for Sandon Hertfordshire
REFRESH-INTERVAL;VALUE=DURATION:PT1H
X-Robots-Tag:noindex
X-PUBLISHED-TTL:PT1H
BEGIN:VTIMEZONE
TZID:UTC
BEGIN:STANDARD
TZOFFSETFROM:+0000
TZOFFSETTO:+0000
TZNAME:UTC
DTSTART:20210101T000000
END:STANDARD
END:VTIMEZONE
BEGIN:VEVENT
DTSTART;TZID=UTC:20221205T191500
DTEND;TZID=UTC:20221205T200000
DTSTAMP:20260419T191411
CREATED:20221207T110628Z
LAST-MODIFIED:20221207T110741Z
UID:927-1670267700-1670270400@sandonherts.co.uk
SUMMARY:Extraordinary Meeting of the Parish Council
DESCRIPTION:EXTRAORDINARY MEETING AGENDA\nNotice is hereby given of an Extraordinary Meeting of the Sandon Parish\nCouncil on Monday 12th December at 7.15pm at Sandon Village Hall.\nTo discuss any planning applications lodged within the date of the meeting\nincluding:\n22/02951/FP\n22/03099/FP\n22/03100/LBC
URL:https://sandonherts.co.uk/event/extraordinary-meeting-of-the-parish-council/
LOCATION:Sandon Village Hall\, Payne End\, Sandon\, Buntingford\, Hertfordshire\, SG9 0QU\, United Kingdom
END:VEVENT
END:VCALENDAR