BEGIN:VCALENDAR
VERSION:2.0
PRODID:-//Sandon Hertfordshire - ECPv6.15.20//NONSGML v1.0//EN
CALSCALE:GREGORIAN
METHOD:PUBLISH
X-WR-CALNAME:Sandon Hertfordshire
X-ORIGINAL-URL:https://sandonherts.co.uk
X-WR-CALDESC:Events for Sandon Hertfordshire
REFRESH-INTERVAL;VALUE=DURATION:PT1H
X-Robots-Tag:noindex
X-PUBLISHED-TTL:PT1H
BEGIN:VTIMEZONE
TZID:UTC
BEGIN:STANDARD
TZOFFSETFROM:+0000
TZOFFSETTO:+0000
TZNAME:UTC
DTSTART:20150101T000000
END:STANDARD
END:VTIMEZONE
BEGIN:VEVENT
DTSTART;TZID=UTC:20160611T163000
DTEND;TZID=UTC:20160611T235500
DTSTAMP:20260424T085222
CREATED:20160424T074651Z
LAST-MODIFIED:20160424T074651Z
UID:191-1465662600-1465689300@sandonherts.co.uk
SUMMARY:Queen's 90th. Celebrations Village Hall 11/6/16 from 4:30pm
DESCRIPTION:Including\, \nBring your own Pic Nic\,  Use of Bar B Q if you want to cook anything. \nCup Cake Competition.
URL:https://sandonherts.co.uk/event/queens-90th-celebrations-village-hall-11616-from-430pm/
LOCATION:Sandon Village Hall\, Payne End\, Sandon\, Buntingford\, Hertfordshire\, SG9 0QU\, United Kingdom
END:VEVENT
BEGIN:VEVENT
DTSTART;TZID=UTC:20160624T200000
DTEND;TZID=UTC:20160624T230000
DTSTAMP:20260424T085222
CREATED:20160621T100217Z
LAST-MODIFIED:20160621T100317Z
UID:213-1466798400-1466809200@sandonherts.co.uk
SUMMARY:June Pub Night from 6pm in the Village Hall
DESCRIPTION:June Pub Night is Friday 24th 6pm onward in the Village Hall
URL:https://sandonherts.co.uk/event/june-pub-night/
LOCATION:Hertfordshire
END:VEVENT
BEGIN:VEVENT
DTSTART;TZID=UTC:20160630T103000
DTEND;TZID=UTC:20160630T115500
DTSTAMP:20260424T085222
CREATED:20160629T202958Z
LAST-MODIFIED:20160629T202958Z
UID:218-1467282600-1467287700@sandonherts.co.uk
SUMMARY:June Coffee Morning Village Hall  from 10:30 to noon
DESCRIPTION:June coffee morning 10:30 am Village Hall
URL:https://sandonherts.co.uk/event/june-coffee-morning-village-hall-from-1030-to-noon/
LOCATION:Hertfordshire
END:VEVENT
END:VCALENDAR