BEGIN:VCALENDAR
VERSION:2.0
PRODID:-//Sandon Hertfordshire - ECPv6.15.20//NONSGML v1.0//EN
CALSCALE:GREGORIAN
METHOD:PUBLISH
X-ORIGINAL-URL:https://sandonherts.co.uk
X-WR-CALDESC:Events for Sandon Hertfordshire
REFRESH-INTERVAL;VALUE=DURATION:PT1H
X-Robots-Tag:noindex
X-PUBLISHED-TTL:PT1H
BEGIN:VTIMEZONE
TZID:UTC
BEGIN:STANDARD
TZOFFSETFROM:+0000
TZOFFSETTO:+0000
TZNAME:UTC
DTSTART:20160101T000000
END:STANDARD
END:VTIMEZONE
BEGIN:VEVENT
DTSTART;TZID=UTC:20170608T070000
DTEND;TZID=UTC:20170608T230000
DTSTAMP:20260423T180724
CREATED:20170602T195411Z
LAST-MODIFIED:20170602T195411Z
UID:289-1496905200-1496962800@sandonherts.co.uk
SUMMARY:Election Day 7am to 10pm in the Village Hall
DESCRIPTION:
URL:https://sandonherts.co.uk/event/election-day-7am-to-10pm-in-the-village-hall/
LOCATION:Hertfordshire
END:VEVENT
BEGIN:VEVENT
DTSTART;TZID=UTC:20170617T093000
DTEND;TZID=UTC:20170617T123000
DTSTAMP:20260423T180724
CREATED:20170611T223958Z
LAST-MODIFIED:20170611T223958Z
UID:294-1497691800-1497702600@sandonherts.co.uk
SUMMARY:Village Market in the School 9:30 to 12:30
DESCRIPTION:Village Market in the School 9:30 to 12:30 17th June 17
URL:https://sandonherts.co.uk/event/village-market-in-the-school-930-to-1230/
LOCATION:Hertfordshire
END:VEVENT
BEGIN:VEVENT
DTSTART;TZID=UTC:20170623T184500
DTEND;TZID=UTC:20170623T220000
DTSTAMP:20260423T180724
CREATED:20170611T102351Z
LAST-MODIFIED:20170611T102351Z
UID:293-1498243500-1498255200@sandonherts.co.uk
SUMMARY:SANDON  FILM  NIGHT  Friday 23rd June  Village Hall 6:45  Film starts at 7:30
DESCRIPTION:SANDON  FILM  NIGHT – Friday 23rd June \nFree entry to the Village Hall 6:45 – Pay Bar \nMain Film starts at 7:30 \nResidents of Sandon\, Rushden\, Wallington\, Clothall and Weston are all welcome and their friends too.
URL:https://sandonherts.co.uk/event/sandon-film-night-friday-23rd-june-village-hall-645-film-starts-at-730/
LOCATION:Hertfordshire
END:VEVENT
BEGIN:VEVENT
DTSTART;TZID=UTC:20170629T103000
DTEND;TZID=UTC:20170629T103000
DTSTAMP:20260423T180724
CREATED:20170530T051458Z
LAST-MODIFIED:20170530T051629Z
UID:283-1498732200-1498732200@sandonherts.co.uk
SUMMARY:Coffee  Morning VH 10:30 to Noon
DESCRIPTION:In the Village Hall 10:30 to Noon
URL:https://sandonherts.co.uk/event/coffee-morning-2/
LOCATION:Hertfordshire
END:VEVENT
BEGIN:VEVENT
DTSTART;TZID=UTC:20170630T180000
DTEND;TZID=UTC:20170630T230000
DTSTAMP:20260423T180724
CREATED:20170602T194925Z
LAST-MODIFIED:20170602T195217Z
UID:288-1498845600-1498863600@sandonherts.co.uk
SUMMARY:Last of The Summer Pub Night's. From 6pm in Village Hall
DESCRIPTION:
URL:https://sandonherts.co.uk/event/pub-night-from-6pm-in-village-hall/
LOCATION:Hertfordshire
END:VEVENT
END:VCALENDAR