BEGIN:VCALENDAR
VERSION:2.0
PRODID:-//Sandon Hertfordshire - ECPv6.15.20//NONSGML v1.0//EN
CALSCALE:GREGORIAN
METHOD:PUBLISH
X-ORIGINAL-URL:https://sandonherts.co.uk
X-WR-CALDESC:Events for Sandon Hertfordshire
REFRESH-INTERVAL;VALUE=DURATION:PT1H
X-Robots-Tag:noindex
X-PUBLISHED-TTL:PT1H
BEGIN:VTIMEZONE
TZID:UTC
BEGIN:STANDARD
TZOFFSETFROM:+0000
TZOFFSETTO:+0000
TZNAME:UTC
DTSTART:20160101T000000
END:STANDARD
END:VTIMEZONE
BEGIN:VEVENT
DTSTART;TZID=UTC:20170811T180000
DTEND;TZID=UTC:20170811T193000
DTSTAMP:20260423T151809
CREATED:20170714T115520Z
LAST-MODIFIED:20170806T080447Z
UID:312-1502474400-1502479800@sandonherts.co.uk
SUMMARY:Pimm's O'clock from 6pm Lye End all Fridays in August
DESCRIPTION:Pimm’s O’clock from 6pm Lye End all Fridays in August
URL:https://sandonherts.co.uk/event/pimms-oclock-from-6pm-lye-end-all-fridays-in-august/
LOCATION:Hertfordshire
END:VEVENT
BEGIN:VEVENT
DTSTART;TZID=UTC:20170831T103000
DTEND;TZID=UTC:20170831T120000
DTSTAMP:20260423T151809
CREATED:20170704T032632Z
LAST-MODIFIED:20170806T080650Z
UID:307-1504175400-1504180800@sandonherts.co.uk
SUMMARY:Coffee Morning Village Hall 10;30 to Noon
DESCRIPTION:
URL:https://sandonherts.co.uk/event/coffee-morning-village-hall-1030-to-noon/
LOCATION:Hertfordshire
END:VEVENT
END:VCALENDAR