BEGIN:VCALENDAR
VERSION:2.0
PRODID:-//Sandon Hertfordshire - ECPv6.15.20//NONSGML v1.0//EN
CALSCALE:GREGORIAN
METHOD:PUBLISH
X-WR-CALNAME:Sandon Hertfordshire
X-ORIGINAL-URL:https://sandonherts.co.uk
X-WR-CALDESC:Events for Sandon Hertfordshire
REFRESH-INTERVAL;VALUE=DURATION:PT1H
X-Robots-Tag:noindex
X-PUBLISHED-TTL:PT1H
BEGIN:VTIMEZONE
TZID:UTC
BEGIN:STANDARD
TZOFFSETFROM:+0000
TZOFFSETTO:+0000
TZNAME:UTC
DTSTART:20160101T000000
END:STANDARD
END:VTIMEZONE
BEGIN:VEVENT
DTSTART;TZID=UTC:20170902T100000
DTEND;TZID=UTC:20170902T160000
DTSTAMP:20260423T141050
CREATED:20170628T053638Z
LAST-MODIFIED:20170628T053638Z
UID:305-1504346400-1504368000@sandonherts.co.uk
SUMMARY:Gardening Club Show 2nd September 17 in  the Village Hall
DESCRIPTION:
URL:https://sandonherts.co.uk/event/gardening-club-show-2nd-september-17-in-the-village-hall/
LOCATION:Hertfordshire
END:VEVENT
BEGIN:VEVENT
DTSTART;TZID=UTC:20170924T123000
DTEND;TZID=UTC:20170924T160000
DTSTAMP:20260423T141050
CREATED:20170628T053353Z
LAST-MODIFIED:20170628T053353Z
UID:304-1506256200-1506268800@sandonherts.co.uk
SUMMARY:Sandon Village Fete 24th September theme Charlie and the Chocolate Factory
DESCRIPTION:Fete on Church End 24th September 17
URL:https://sandonherts.co.uk/event/sandon-village-fete-24th-september-theme-charlie-and-the-chocolate-factory/
LOCATION:Hertfordshire
END:VEVENT
END:VCALENDAR