BEGIN:VCALENDAR
VERSION:2.0
PRODID:-//Sandon Hertfordshire - ECPv6.15.20//NONSGML v1.0//EN
CALSCALE:GREGORIAN
METHOD:PUBLISH
X-ORIGINAL-URL:https://sandonherts.co.uk
X-WR-CALDESC:Events for Sandon Hertfordshire
REFRESH-INTERVAL;VALUE=DURATION:PT1H
X-Robots-Tag:noindex
X-PUBLISHED-TTL:PT1H
BEGIN:VTIMEZONE
TZID:UTC
BEGIN:STANDARD
TZOFFSETFROM:+0000
TZOFFSETTO:+0000
TZNAME:UTC
DTSTART:20210101T000000
END:STANDARD
END:VTIMEZONE
BEGIN:VEVENT
DTSTART;TZID=UTC:20221202T190000
DTEND;TZID=UTC:20221202T230000
DTSTAMP:20260419T173213
CREATED:20221027T140814Z
LAST-MODIFIED:20221114T215126Z
UID:883-1670007600-1670022000@sandonherts.co.uk
SUMMARY:Pub Night
DESCRIPTION:Sandon Pub Night
URL:https://sandonherts.co.uk/event/pub-night/
LOCATION:Sandon Village Hall\, Payne End\, Sandon\, Buntingford\, Hertfordshire\, SG9 0QU\, United Kingdom
END:VEVENT
BEGIN:VEVENT
DTSTART;TZID=UTC:20221205T191500
DTEND;TZID=UTC:20221205T200000
DTSTAMP:20260419T173213
CREATED:20221207T110628Z
LAST-MODIFIED:20221207T110741Z
UID:927-1670267700-1670270400@sandonherts.co.uk
SUMMARY:Extraordinary Meeting of the Parish Council
DESCRIPTION:EXTRAORDINARY MEETING AGENDA\nNotice is hereby given of an Extraordinary Meeting of the Sandon Parish\nCouncil on Monday 12th December at 7.15pm at Sandon Village Hall.\nTo discuss any planning applications lodged within the date of the meeting\nincluding:\n22/02951/FP\n22/03099/FP\n22/03100/LBC
URL:https://sandonherts.co.uk/event/extraordinary-meeting-of-the-parish-council/
LOCATION:Sandon Village Hall\, Payne End\, Sandon\, Buntingford\, Hertfordshire\, SG9 0QU\, United Kingdom
END:VEVENT
BEGIN:VEVENT
DTSTART;VALUE=DATE:20221220
DTEND;VALUE=DATE:20221221
DTSTAMP:20260419T173213
CREATED:20221114T214923Z
LAST-MODIFIED:20221114T214923Z
UID:914-1671494400-1671580799@sandonherts.co.uk
SUMMARY:Grant application due date
DESCRIPTION:Lye End Farm\nSandon\nBuntingford\nHerts\nSG9 0RS \nInvitation to apply for the Sandon Parish Council Grant for 2023/24 \nAs you may know\, each year Sandon Parish Council tries to offer financial support in the form of a grant to a number of clubs and organisations within the village to help them to provide a comprehensive and valued range of activities and benefits to local residents.  \nIf you would like to submit an application\, please apply to the Parish Council in writing by the 20th December 2022.  Your application will be considered by the Parish Council along with others at its meeting in January 2023.  \nYour application should include what the grant will be used for and\, where known\, the full cost of the purchase or project.   Please also include a copy of the latest set of approved annual accounts for your organisation.  \nPlease reply either by post to the above address or by email to sandonhertsrfo@gmail.com \nI look forward to hearing from you. \nYours sincerely \n     Caroline Scott\n     Sandon Parish Council RFO
URL:https://sandonherts.co.uk/event/grant-application-due-date/
LOCATION:Hertfordshire
END:VEVENT
END:VCALENDAR