BEGIN:VCALENDAR
VERSION:2.0
PRODID:-//Sandon Hertfordshire - ECPv6.15.20//NONSGML v1.0//EN
CALSCALE:GREGORIAN
METHOD:PUBLISH
X-ORIGINAL-URL:https://sandonherts.co.uk
X-WR-CALDESC:Events for Sandon Hertfordshire
REFRESH-INTERVAL;VALUE=DURATION:PT1H
X-Robots-Tag:noindex
X-PUBLISHED-TTL:PT1H
BEGIN:VTIMEZONE
TZID:UTC
BEGIN:STANDARD
TZOFFSETFROM:+0000
TZOFFSETTO:+0000
TZNAME:UTC
DTSTART:20220101T000000
END:STANDARD
END:VTIMEZONE
BEGIN:VEVENT
DTSTART;TZID=UTC:20230125T193000
DTEND;TZID=UTC:20230125T213000
DTSTAMP:20260419T155231
CREATED:20230117T173115Z
LAST-MODIFIED:20230122T173507Z
UID:929-1674675000-1674682200@sandonherts.co.uk
SUMMARY:Sandon Parish Council Meeting
DESCRIPTION:Sandon Agenda January 2023
URL:https://sandonherts.co.uk/event/sandon-parish-council-meeting/
LOCATION:Sandon Village Hall\, Payne End\, Sandon\, Buntingford\, Hertfordshire\, SG9 0QU\, United Kingdom
END:VEVENT
BEGIN:VEVENT
DTSTART;TZID=UTC:20230130T193000
DTEND;TZID=UTC:20230130T210000
DTSTAMP:20260419T155231
CREATED:20230128T151732Z
LAST-MODIFIED:20230128T151732Z
UID:936-1675107000-1675112400@sandonherts.co.uk
SUMMARY:Parish Council meeting
DESCRIPTION:
URL:https://sandonherts.co.uk/event/parish-council-meeting-2/
LOCATION:Sandon Village Hall\, Payne End\, Sandon\, Buntingford\, Hertfordshire\, SG9 0QU\, United Kingdom
END:VEVENT
END:VCALENDAR